BEGIN:VCALENDAR
VERSION:2.0
PRODID:-//Mountain Modern Sedona - ECPv6.15.20//NONSGML v1.0//EN
CALSCALE:GREGORIAN
METHOD:PUBLISH
X-WR-CALNAME:Mountain Modern Sedona
X-ORIGINAL-URL:https://mountainmodernsedona.com
X-WR-CALDESC:Events for Mountain Modern Sedona
REFRESH-INTERVAL;VALUE=DURATION:PT1H
X-Robots-Tag:noindex
X-PUBLISHED-TTL:PT1H
BEGIN:VTIMEZONE
TZID:America/Denver
BEGIN:DAYLIGHT
TZOFFSETFROM:-0700
TZOFFSETTO:-0600
TZNAME:MDT
DTSTART:20250309T090000
END:DAYLIGHT
BEGIN:STANDARD
TZOFFSETFROM:-0600
TZOFFSETTO:-0700
TZNAME:MST
DTSTART:20251102T080000
END:STANDARD
BEGIN:DAYLIGHT
TZOFFSETFROM:-0700
TZOFFSETTO:-0600
TZNAME:MDT
DTSTART:20260308T090000
END:DAYLIGHT
BEGIN:STANDARD
TZOFFSETFROM:-0600
TZOFFSETTO:-0700
TZNAME:MST
DTSTART:20261101T080000
END:STANDARD
BEGIN:DAYLIGHT
TZOFFSETFROM:-0700
TZOFFSETTO:-0600
TZNAME:MDT
DTSTART:20270314T090000
END:DAYLIGHT
BEGIN:STANDARD
TZOFFSETFROM:-0600
TZOFFSETTO:-0700
TZNAME:MST
DTSTART:20271107T080000
END:STANDARD
END:VTIMEZONE
BEGIN:VEVENT
DTSTART;TZID=America/Denver:20260401T080000
DTEND;TZID=America/Denver:20260401T090000
DTSTAMP:20260424T031357
CREATED:20250418T165857Z
LAST-MODIFIED:20260114T214005Z
UID:10002044-1775030400-1775034000@mountainmodernsedona.com
SUMMARY:Yoga In The Park
DESCRIPTION:Meet Zlata in the park for gentle yoga to improve circulation and get energized for your day.
URL:https://mountainmodernsedona.com/event/yoga-in-the-park/2026-04-01
LOCATION:Mountain Modern\, 95 Arroyo Pinon Dr\, Sedona\, AZ\, 83001\, United States
CATEGORIES:On Site
END:VEVENT
BEGIN:VEVENT
DTSTART;TZID=America/Denver:20260401T070000
DTEND;TZID=America/Denver:20260401T080000
DTSTAMP:20260424T031357
CREATED:20250418T165758Z
LAST-MODIFIED:20260114T213956Z
UID:10001992-1775026800-1775030400@mountainmodernsedona.com
SUMMARY:Energy Alignment
DESCRIPTION:Meet Zlata in the park to tune-up your energy and self-awareness through mindful meditation and breathwork
URL:https://mountainmodernsedona.com/event/energy-alignment/2026-04-01
LOCATION:Mountain Modern\, 95 Arroyo Pinon Dr\, Sedona\, AZ\, 83001\, United States
CATEGORIES:On Site
END:VEVENT
BEGIN:VEVENT
DTSTART;TZID=America/Denver:20260331T190000
DTEND;TZID=America/Denver:20260331T200000
DTSTAMP:20260424T031357
CREATED:20250418T165648Z
LAST-MODIFIED:20260114T213945Z
UID:10001940-1774983600-1774987200@mountainmodernsedona.com
SUMMARY:Explore Your Chakras
DESCRIPTION:Meet Zlata to learn about chakras and their location in the body. Learn to open and clear your chakras to improve your physical\, emotional and spiritual life.
URL:https://mountainmodernsedona.com/event/explore-your-chakras/2026-03-31
LOCATION:Mountain Modern\, 95 Arroyo Pinon Dr\, Sedona\, AZ\, 83001\, United States
CATEGORIES:On Site
END:VEVENT
BEGIN:VEVENT
DTSTART;TZID=America/Denver:20260331T080000
DTEND;TZID=America/Denver:20260331T090000
DTSTAMP:20260424T031357
CREATED:20250418T165545Z
LAST-MODIFIED:20260114T213854Z
UID:10001888-1774944000-1774947600@mountainmodernsedona.com
SUMMARY:Meditation & Breathwork
DESCRIPTION:Meet Emily Wade in the park to experience meditation and breath work. “When you don’t go within\, you go without.” -Neale Donald Walsch
URL:https://mountainmodernsedona.com/event/meditation-breathwork/2026-03-31
LOCATION:Mountain Modern\, 95 Arroyo Pinon Dr\, Sedona\, AZ\, 83001\, United States
CATEGORIES:On Site
END:VEVENT
BEGIN:VEVENT
DTSTART;TZID=America/Denver:20260329T130000
DTEND;TZID=America/Denver:20260329T140000
DTSTAMP:20260424T031357
CREATED:20250418T165142Z
LAST-MODIFIED:20260114T213445Z
UID:10001784-1774789200-1774792800@mountainmodernsedona.com
SUMMARY:Let's Go Fly A Kite
DESCRIPTION:Stop by the Lobby and pick up a kit to design your own colorful kite to fly amongst the red rocks.
URL:https://mountainmodernsedona.com/event/lets-go-fly-a-kite/2026-03-29
LOCATION:Mountain Modern\, 95 Arroyo Pinon Dr\, Sedona\, AZ\, 83001\, United States
CATEGORIES:On Site
END:VEVENT
BEGIN:VEVENT
DTSTART;TZID=America/Denver:20260329T080000
DTEND;TZID=America/Denver:20260329T090000
DTSTAMP:20260424T031357
CREATED:20250418T165047Z
LAST-MODIFIED:20260114T213427Z
UID:10001732-1774771200-1774774800@mountainmodernsedona.com
SUMMARY:Energizing Stretch
DESCRIPTION:Meet Zlata in the park for a gentle stretch to open your energy flow and get ready for your day.
URL:https://mountainmodernsedona.com/event/energizing-stretch/2026-03-29
LOCATION:Mountain Modern\, 95 Arroyo Pinon Dr\, Sedona\, AZ\, 83001\, United States
CATEGORIES:On Site
END:VEVENT
BEGIN:VEVENT
DTSTART;TZID=America/Denver:20260329T070000
DTEND;TZID=America/Denver:20260329T080000
DTSTAMP:20260424T031357
CREATED:20250418T164831Z
LAST-MODIFIED:20260114T213411Z
UID:10001680-1774767600-1774771200@mountainmodernsedona.com
SUMMARY:Sunrise Connections
DESCRIPTION:Meet Zlata in the lobby then head to the park to set your intentions involving Native American traditions.
URL:https://mountainmodernsedona.com/event/sunrise-connections/2026-03-29
LOCATION:Mountain Modern\, 95 Arroyo Pinon Dr\, Sedona\, AZ\, 83001\, United States
CATEGORIES:On Site
END:VEVENT
BEGIN:VEVENT
DTSTART;TZID=America/Denver:20260328T190000
DTEND;TZID=America/Denver:20260328T210000
DTSTAMP:20260424T031357
CREATED:20250418T164439Z
LAST-MODIFIED:20260114T213328Z
UID:10001497-1774724400-1774731600@mountainmodernsedona.com
SUMMARY:An Evening of Classical Guitar
DESCRIPTION:Enjoy the elegant sounds of award-winning guitarists Brian David on Thursdays & Saturdays and Fitzhugh Jenkins on Fridays.
URL:https://mountainmodernsedona.com/event/an-evening-of-classical-guitar/2026-03-28
LOCATION:Mountain Modern\, 95 Arroyo Pinon Dr\, Sedona\, AZ\, 83001\, United States
CATEGORIES:On Site
END:VEVENT
BEGIN:VEVENT
DTSTART;TZID=America/Denver:20260328T130000
DTEND;TZID=America/Denver:20260328T140000
DTSTAMP:20260424T031357
CREATED:20250418T164140Z
LAST-MODIFIED:20260114T213400Z
UID:10001628-1774702800-1774706400@mountainmodernsedona.com
SUMMARY:Peaceful Pinwheels
DESCRIPTION:Stop by the Front Desk and pick up a DIY pinwheel kit for some creative fun.
URL:https://mountainmodernsedona.com/event/peaceful-pinwheels/2026-03-28
LOCATION:Mountain Modern\, 95 Arroyo Pinon Dr\, Sedona\, AZ\, 83001\, United States
CATEGORIES:On Site
END:VEVENT
BEGIN:VEVENT
DTSTART;TZID=America/Denver:20260327T190000
DTEND;TZID=America/Denver:20260327T210000
DTSTAMP:20260424T031357
CREATED:20250418T164439Z
LAST-MODIFIED:20260114T213328Z
UID:10001496-1774638000-1774645200@mountainmodernsedona.com
SUMMARY:An Evening of Classical Guitar
DESCRIPTION:Enjoy the elegant sounds of award-winning guitarists Brian David on Thursdays & Saturdays and Fitzhugh Jenkins on Fridays.
URL:https://mountainmodernsedona.com/event/an-evening-of-classical-guitar/2026-03-27
LOCATION:Mountain Modern\, 95 Arroyo Pinon Dr\, Sedona\, AZ\, 83001\, United States
CATEGORIES:On Site
END:VEVENT
BEGIN:VEVENT
DTSTART;TZID=America/Denver:20260326T190000
DTEND;TZID=America/Denver:20260326T210000
DTSTAMP:20260424T031357
CREATED:20250418T164439Z
LAST-MODIFIED:20260114T213328Z
UID:10001495-1774551600-1774558800@mountainmodernsedona.com
SUMMARY:An Evening of Classical Guitar
DESCRIPTION:Enjoy the elegant sounds of award-winning guitarists Brian David on Thursdays & Saturdays and Fitzhugh Jenkins on Fridays.
URL:https://mountainmodernsedona.com/event/an-evening-of-classical-guitar/2026-03-26
LOCATION:Mountain Modern\, 95 Arroyo Pinon Dr\, Sedona\, AZ\, 83001\, United States
CATEGORIES:On Site
END:VEVENT
BEGIN:VEVENT
DTSTART;TZID=America/Denver:20260325T190000
DTEND;TZID=America/Denver:20260325T200000
DTSTAMP:20260424T031357
CREATED:20250418T165940Z
LAST-MODIFIED:20260114T214015Z
UID:10002095-1774465200-1774468800@mountainmodernsedona.com
SUMMARY:Your Quantum Healing
DESCRIPTION:Join Zlata and learn about your own abilities to heal yourself. Learn useful techniques to improve your physical and mental health.
URL:https://mountainmodernsedona.com/event/your-quantum-healing/2026-03-25
LOCATION:Mountain Modern\, 95 Arroyo Pinon Dr\, Sedona\, AZ\, 83001\, United States
CATEGORIES:On Site
END:VEVENT
BEGIN:VEVENT
DTSTART;TZID=America/Denver:20260325T080000
DTEND;TZID=America/Denver:20260325T090000
DTSTAMP:20260424T031357
CREATED:20250418T165857Z
LAST-MODIFIED:20260114T214005Z
UID:10002043-1774425600-1774429200@mountainmodernsedona.com
SUMMARY:Yoga In The Park
DESCRIPTION:Meet Zlata in the park for gentle yoga to improve circulation and get energized for your day.
URL:https://mountainmodernsedona.com/event/yoga-in-the-park/2026-03-25
LOCATION:Mountain Modern\, 95 Arroyo Pinon Dr\, Sedona\, AZ\, 83001\, United States
CATEGORIES:On Site
END:VEVENT
BEGIN:VEVENT
DTSTART;TZID=America/Denver:20260325T070000
DTEND;TZID=America/Denver:20260325T080000
DTSTAMP:20260424T031357
CREATED:20250418T165758Z
LAST-MODIFIED:20260114T213956Z
UID:10001991-1774422000-1774425600@mountainmodernsedona.com
SUMMARY:Energy Alignment
DESCRIPTION:Meet Zlata in the park to tune-up your energy and self-awareness through mindful meditation and breathwork
URL:https://mountainmodernsedona.com/event/energy-alignment/2026-03-25
LOCATION:Mountain Modern\, 95 Arroyo Pinon Dr\, Sedona\, AZ\, 83001\, United States
CATEGORIES:On Site
END:VEVENT
BEGIN:VEVENT
DTSTART;TZID=America/Denver:20260324T190000
DTEND;TZID=America/Denver:20260324T200000
DTSTAMP:20260424T031357
CREATED:20250418T165648Z
LAST-MODIFIED:20260114T213945Z
UID:10001939-1774378800-1774382400@mountainmodernsedona.com
SUMMARY:Explore Your Chakras
DESCRIPTION:Meet Zlata to learn about chakras and their location in the body. Learn to open and clear your chakras to improve your physical\, emotional and spiritual life.
URL:https://mountainmodernsedona.com/event/explore-your-chakras/2026-03-24
LOCATION:Mountain Modern\, 95 Arroyo Pinon Dr\, Sedona\, AZ\, 83001\, United States
CATEGORIES:On Site
END:VEVENT
BEGIN:VEVENT
DTSTART;TZID=America/Denver:20260324T080000
DTEND;TZID=America/Denver:20260324T090000
DTSTAMP:20260424T031357
CREATED:20250418T165545Z
LAST-MODIFIED:20260114T213854Z
UID:10001887-1774339200-1774342800@mountainmodernsedona.com
SUMMARY:Meditation & Breathwork
DESCRIPTION:Meet Emily Wade in the park to experience meditation and breath work. “When you don’t go within\, you go without.” -Neale Donald Walsch
URL:https://mountainmodernsedona.com/event/meditation-breathwork/2026-03-24
LOCATION:Mountain Modern\, 95 Arroyo Pinon Dr\, Sedona\, AZ\, 83001\, United States
CATEGORIES:On Site
END:VEVENT
BEGIN:VEVENT
DTSTART;TZID=America/Denver:20260322T130000
DTEND;TZID=America/Denver:20260322T140000
DTSTAMP:20260424T031357
CREATED:20250418T165142Z
LAST-MODIFIED:20260114T213445Z
UID:10001783-1774184400-1774188000@mountainmodernsedona.com
SUMMARY:Let's Go Fly A Kite
DESCRIPTION:Stop by the Lobby and pick up a kit to design your own colorful kite to fly amongst the red rocks.
URL:https://mountainmodernsedona.com/event/lets-go-fly-a-kite/2026-03-22
LOCATION:Mountain Modern\, 95 Arroyo Pinon Dr\, Sedona\, AZ\, 83001\, United States
CATEGORIES:On Site
END:VEVENT
BEGIN:VEVENT
DTSTART;TZID=America/Denver:20260322T080000
DTEND;TZID=America/Denver:20260322T090000
DTSTAMP:20260424T031357
CREATED:20250418T165047Z
LAST-MODIFIED:20260114T213427Z
UID:10001731-1774166400-1774170000@mountainmodernsedona.com
SUMMARY:Energizing Stretch
DESCRIPTION:Meet Zlata in the park for a gentle stretch to open your energy flow and get ready for your day.
URL:https://mountainmodernsedona.com/event/energizing-stretch/2026-03-22
LOCATION:Mountain Modern\, 95 Arroyo Pinon Dr\, Sedona\, AZ\, 83001\, United States
CATEGORIES:On Site
END:VEVENT
BEGIN:VEVENT
DTSTART;TZID=America/Denver:20260322T070000
DTEND;TZID=America/Denver:20260322T080000
DTSTAMP:20260424T031357
CREATED:20250418T164831Z
LAST-MODIFIED:20260114T213411Z
UID:10001679-1774162800-1774166400@mountainmodernsedona.com
SUMMARY:Sunrise Connections
DESCRIPTION:Meet Zlata in the lobby then head to the park to set your intentions involving Native American traditions.
URL:https://mountainmodernsedona.com/event/sunrise-connections/2026-03-22
LOCATION:Mountain Modern\, 95 Arroyo Pinon Dr\, Sedona\, AZ\, 83001\, United States
CATEGORIES:On Site
END:VEVENT
BEGIN:VEVENT
DTSTART;TZID=America/Denver:20260321T190000
DTEND;TZID=America/Denver:20260321T210000
DTSTAMP:20260424T031357
CREATED:20250418T164439Z
LAST-MODIFIED:20260114T213328Z
UID:10001494-1774119600-1774126800@mountainmodernsedona.com
SUMMARY:An Evening of Classical Guitar
DESCRIPTION:Enjoy the elegant sounds of award-winning guitarists Brian David on Thursdays & Saturdays and Fitzhugh Jenkins on Fridays.
URL:https://mountainmodernsedona.com/event/an-evening-of-classical-guitar/2026-03-21
LOCATION:Mountain Modern\, 95 Arroyo Pinon Dr\, Sedona\, AZ\, 83001\, United States
CATEGORIES:On Site
END:VEVENT
BEGIN:VEVENT
DTSTART;TZID=America/Denver:20260321T130000
DTEND;TZID=America/Denver:20260321T140000
DTSTAMP:20260424T031357
CREATED:20250418T164140Z
LAST-MODIFIED:20260114T213400Z
UID:10001627-1774098000-1774101600@mountainmodernsedona.com
SUMMARY:Peaceful Pinwheels
DESCRIPTION:Stop by the Front Desk and pick up a DIY pinwheel kit for some creative fun.
URL:https://mountainmodernsedona.com/event/peaceful-pinwheels/2026-03-21
LOCATION:Mountain Modern\, 95 Arroyo Pinon Dr\, Sedona\, AZ\, 83001\, United States
CATEGORIES:On Site
END:VEVENT
BEGIN:VEVENT
DTSTART;TZID=America/Denver:20260320T190000
DTEND;TZID=America/Denver:20260320T210000
DTSTAMP:20260424T031357
CREATED:20250418T164439Z
LAST-MODIFIED:20260114T213328Z
UID:10001493-1774033200-1774040400@mountainmodernsedona.com
SUMMARY:An Evening of Classical Guitar
DESCRIPTION:Enjoy the elegant sounds of award-winning guitarists Brian David on Thursdays & Saturdays and Fitzhugh Jenkins on Fridays.
URL:https://mountainmodernsedona.com/event/an-evening-of-classical-guitar/2026-03-20
LOCATION:Mountain Modern\, 95 Arroyo Pinon Dr\, Sedona\, AZ\, 83001\, United States
CATEGORIES:On Site
END:VEVENT
BEGIN:VEVENT
DTSTART;TZID=America/Denver:20260319T190000
DTEND;TZID=America/Denver:20260319T210000
DTSTAMP:20260424T031357
CREATED:20250418T164439Z
LAST-MODIFIED:20260114T213328Z
UID:10001492-1773946800-1773954000@mountainmodernsedona.com
SUMMARY:An Evening of Classical Guitar
DESCRIPTION:Enjoy the elegant sounds of award-winning guitarists Brian David on Thursdays & Saturdays and Fitzhugh Jenkins on Fridays.
URL:https://mountainmodernsedona.com/event/an-evening-of-classical-guitar/2026-03-19
LOCATION:Mountain Modern\, 95 Arroyo Pinon Dr\, Sedona\, AZ\, 83001\, United States
CATEGORIES:On Site
END:VEVENT
BEGIN:VEVENT
DTSTART;TZID=America/Denver:20260318T190000
DTEND;TZID=America/Denver:20260318T200000
DTSTAMP:20260424T031357
CREATED:20250418T165940Z
LAST-MODIFIED:20260114T214015Z
UID:10002094-1773860400-1773864000@mountainmodernsedona.com
SUMMARY:Your Quantum Healing
DESCRIPTION:Join Zlata and learn about your own abilities to heal yourself. Learn useful techniques to improve your physical and mental health.
URL:https://mountainmodernsedona.com/event/your-quantum-healing/2026-03-18
LOCATION:Mountain Modern\, 95 Arroyo Pinon Dr\, Sedona\, AZ\, 83001\, United States
CATEGORIES:On Site
END:VEVENT
BEGIN:VEVENT
DTSTART;TZID=America/Denver:20260318T080000
DTEND;TZID=America/Denver:20260318T090000
DTSTAMP:20260424T031357
CREATED:20250418T165857Z
LAST-MODIFIED:20260114T214005Z
UID:10002042-1773820800-1773824400@mountainmodernsedona.com
SUMMARY:Yoga In The Park
DESCRIPTION:Meet Zlata in the park for gentle yoga to improve circulation and get energized for your day.
URL:https://mountainmodernsedona.com/event/yoga-in-the-park/2026-03-18
LOCATION:Mountain Modern\, 95 Arroyo Pinon Dr\, Sedona\, AZ\, 83001\, United States
CATEGORIES:On Site
END:VEVENT
BEGIN:VEVENT
DTSTART;TZID=America/Denver:20260318T070000
DTEND;TZID=America/Denver:20260318T080000
DTSTAMP:20260424T031357
CREATED:20250418T165758Z
LAST-MODIFIED:20260114T213956Z
UID:10001990-1773817200-1773820800@mountainmodernsedona.com
SUMMARY:Energy Alignment
DESCRIPTION:Meet Zlata in the park to tune-up your energy and self-awareness through mindful meditation and breathwork
URL:https://mountainmodernsedona.com/event/energy-alignment/2026-03-18
LOCATION:Mountain Modern\, 95 Arroyo Pinon Dr\, Sedona\, AZ\, 83001\, United States
CATEGORIES:On Site
END:VEVENT
BEGIN:VEVENT
DTSTART;TZID=America/Denver:20260317T190000
DTEND;TZID=America/Denver:20260317T200000
DTSTAMP:20260424T031357
CREATED:20250418T165648Z
LAST-MODIFIED:20260114T213945Z
UID:10001938-1773774000-1773777600@mountainmodernsedona.com
SUMMARY:Explore Your Chakras
DESCRIPTION:Meet Zlata to learn about chakras and their location in the body. Learn to open and clear your chakras to improve your physical\, emotional and spiritual life.
URL:https://mountainmodernsedona.com/event/explore-your-chakras/2026-03-17
LOCATION:Mountain Modern\, 95 Arroyo Pinon Dr\, Sedona\, AZ\, 83001\, United States
CATEGORIES:On Site
END:VEVENT
BEGIN:VEVENT
DTSTART;TZID=America/Denver:20260317T080000
DTEND;TZID=America/Denver:20260317T090000
DTSTAMP:20260424T031357
CREATED:20250418T165545Z
LAST-MODIFIED:20260114T213854Z
UID:10001886-1773734400-1773738000@mountainmodernsedona.com
SUMMARY:Meditation & Breathwork
DESCRIPTION:Meet Emily Wade in the park to experience meditation and breath work. “When you don’t go within\, you go without.” -Neale Donald Walsch
URL:https://mountainmodernsedona.com/event/meditation-breathwork/2026-03-17
LOCATION:Mountain Modern\, 95 Arroyo Pinon Dr\, Sedona\, AZ\, 83001\, United States
CATEGORIES:On Site
END:VEVENT
BEGIN:VEVENT
DTSTART;TZID=America/Denver:20260315T130000
DTEND;TZID=America/Denver:20260315T140000
DTSTAMP:20260424T031357
CREATED:20250418T165142Z
LAST-MODIFIED:20260114T213445Z
UID:10001782-1773579600-1773583200@mountainmodernsedona.com
SUMMARY:Let's Go Fly A Kite
DESCRIPTION:Stop by the Lobby and pick up a kit to design your own colorful kite to fly amongst the red rocks.
URL:https://mountainmodernsedona.com/event/lets-go-fly-a-kite/2026-03-15
LOCATION:Mountain Modern\, 95 Arroyo Pinon Dr\, Sedona\, AZ\, 83001\, United States
CATEGORIES:On Site
END:VEVENT
BEGIN:VEVENT
DTSTART;TZID=America/Denver:20260315T080000
DTEND;TZID=America/Denver:20260315T090000
DTSTAMP:20260424T031357
CREATED:20250418T165047Z
LAST-MODIFIED:20260114T213427Z
UID:10001730-1773561600-1773565200@mountainmodernsedona.com
SUMMARY:Energizing Stretch
DESCRIPTION:Meet Zlata in the park for a gentle stretch to open your energy flow and get ready for your day.
URL:https://mountainmodernsedona.com/event/energizing-stretch/2026-03-15
LOCATION:Mountain Modern\, 95 Arroyo Pinon Dr\, Sedona\, AZ\, 83001\, United States
CATEGORIES:On Site
END:VEVENT
END:VCALENDAR